BEGIN:VCALENDAR
VERSION:2.0
PRODID:-//Radfahrer-Verein Ravensburg e.V. - ECPv6.15.20//NONSGML v1.0//EN
CALSCALE:GREGORIAN
METHOD:PUBLISH
X-WR-CALNAME:Radfahrer-Verein Ravensburg e.V.
X-ORIGINAL-URL:https://www.rv-ravensburg.de
X-WR-CALDESC:Veranstaltungen für Radfahrer-Verein Ravensburg e.V.
REFRESH-INTERVAL;VALUE=DURATION:PT1H
X-Robots-Tag:noindex
X-PUBLISHED-TTL:PT1H
BEGIN:VTIMEZONE
TZID:Europe/Berlin
BEGIN:DAYLIGHT
TZOFFSETFROM:+0100
TZOFFSETTO:+0200
TZNAME:CEST
DTSTART:20220327T010000
END:DAYLIGHT
BEGIN:STANDARD
TZOFFSETFROM:+0200
TZOFFSETTO:+0100
TZNAME:CET
DTSTART:20221030T010000
END:STANDARD
BEGIN:DAYLIGHT
TZOFFSETFROM:+0100
TZOFFSETTO:+0200
TZNAME:CEST
DTSTART:20230326T010000
END:DAYLIGHT
BEGIN:STANDARD
TZOFFSETFROM:+0200
TZOFFSETTO:+0100
TZNAME:CET
DTSTART:20231029T010000
END:STANDARD
BEGIN:DAYLIGHT
TZOFFSETFROM:+0100
TZOFFSETTO:+0200
TZNAME:CEST
DTSTART:20240331T010000
END:DAYLIGHT
BEGIN:STANDARD
TZOFFSETFROM:+0200
TZOFFSETTO:+0100
TZNAME:CET
DTSTART:20241027T010000
END:STANDARD
END:VTIMEZONE
BEGIN:VEVENT
DTSTART;TZID=Europe/Berlin:20230627T080000
DTEND;TZID=Europe/Berlin:20230627T170000
DTSTAMP:20260419T231220
CREATED:20230627T121113Z
LAST-MODIFIED:20230627T121113Z
UID:7325-1687852800-1687885200@www.rv-ravensburg.de
SUMMARY:2023-09-09+10 Ravensburg spielt
DESCRIPTION:Am Wochenende 9. + 10. September ist der RVR wieder bei Ravensburg spielt vertreten. Zu diesem Event wollen wir dieses Jahr wieder einmal Gäste auf der Bühne auftreten lassen\, z.B. die Einradshowgruppe aus Friedrichshafen und einzelne Kunstradfahrer/innen. Gleichzeitig wollen wir die neue Gruppe Kunstrad-Vierer vorstellen
URL:https://www.rv-ravensburg.de/termin/2023-09-0910-ravensburg-spielt/
END:VEVENT
END:VCALENDAR