BEGIN:VCALENDAR
VERSION:2.0
PRODID:-//Radfahrer-Verein Ravensburg e.V. - ECPv6.15.20//NONSGML v1.0//EN
CALSCALE:GREGORIAN
METHOD:PUBLISH
X-WR-CALNAME:Radfahrer-Verein Ravensburg e.V.
X-ORIGINAL-URL:https://www.rv-ravensburg.de
X-WR-CALDESC:Veranstaltungen für Radfahrer-Verein Ravensburg e.V.
REFRESH-INTERVAL;VALUE=DURATION:PT1H
X-Robots-Tag:noindex
X-PUBLISHED-TTL:PT1H
BEGIN:VTIMEZONE
TZID:Europe/Berlin
BEGIN:DAYLIGHT
TZOFFSETFROM:+0100
TZOFFSETTO:+0200
TZNAME:CEST
DTSTART:20230326T010000
END:DAYLIGHT
BEGIN:STANDARD
TZOFFSETFROM:+0200
TZOFFSETTO:+0100
TZNAME:CET
DTSTART:20231029T010000
END:STANDARD
BEGIN:DAYLIGHT
TZOFFSETFROM:+0100
TZOFFSETTO:+0200
TZNAME:CEST
DTSTART:20240331T010000
END:DAYLIGHT
BEGIN:STANDARD
TZOFFSETFROM:+0200
TZOFFSETTO:+0100
TZNAME:CET
DTSTART:20241027T010000
END:STANDARD
BEGIN:DAYLIGHT
TZOFFSETFROM:+0100
TZOFFSETTO:+0200
TZNAME:CEST
DTSTART:20250330T010000
END:DAYLIGHT
BEGIN:STANDARD
TZOFFSETFROM:+0200
TZOFFSETTO:+0100
TZNAME:CET
DTSTART:20251026T010000
END:STANDARD
END:VTIMEZONE
BEGIN:VEVENT
DTSTART;TZID=Europe/Berlin:20240322T180000
DTEND;TZID=Europe/Berlin:20240322T210000
DTSTAMP:20260420T033026
CREATED:20240130T142226Z
LAST-MODIFIED:20240227T100623Z
UID:7438-1711130400-1711141200@www.rv-ravensburg.de
SUMMARY:Jahreshauptversammlung
DESCRIPTION:
URL:https://www.rv-ravensburg.de/termin/jahreshauptversammlung-2/
LOCATION:Sportheim Oberzell
END:VEVENT
END:VCALENDAR